BEGIN:VCALENDAR
VERSION:2.0
CALSCALE:GREGORIAN
PRODID:adamgibbons/ics
METHOD:PUBLISH
X-PUBLISHED-TTL:PT1H
BEGIN:VEVENT
UID:1880@meet.harmreduction.works
SUMMARY:[Harm Reduction Works] WEconnect - Hosted Meeting
DTSTAMP:20260424T135531Z
DTSTART:20260424T170000Z
DTEND:20260424T180000Z
URL:https://meet.harmreduction.works/event/weconnect-hosted-meeting-119
LOCATION:online - https://go.harmreduction.works/wc
STATUS:CONFIRMED
CATEGORIES:hrw,open
END:VEVENT
BEGIN:VEVENT
UID:1881@meet.harmreduction.works
SUMMARY:[Harm Reduction Works] F'ed Up Fridays
DTSTAMP:20260424T135531Z
DTSTART:20260424T230000Z
DTEND:20260425T000000Z
URL:https://meet.harmreduction.works/event/fed-up-fridays-47
LOCATION:online - https://us06web.zoom.us/j/84093886431?pwd=loJvR2vo9oW81pZ
	hLaUmu09hJKalq8.1
STATUS:CONFIRMED
CATEGORIES:hrw,online,open
END:VEVENT
BEGIN:VEVENT
UID:1882@meet.harmreduction.works
SUMMARY:[Harm Reduction Works] Saturday HRW Book Club
DTSTAMP:20260424T135531Z
DTSTART:20260425T193000Z
DTEND:20260425T210000Z
URL:https://meet.harmreduction.works/event/saturday-hrw-book-club-30
LOCATION:online - https://us06web.zoom.us/j/85726923333?pwd=0yK0UXj1nEhtNz9
	RPEVHrI3EYP4Uq9.1
STATUS:CONFIRMED
CATEGORIES:hrw,online,open,specialized
END:VEVENT
BEGIN:VEVENT
UID:1883@meet.harmreduction.works
SUMMARY:[Harm Reduction Works] ABCD (ANYONE BUT CIS DUDES) HRW
DTSTAMP:20260424T135531Z
DTSTART:20260426T220000Z
DTEND:20260426T233000Z
URL:https://meet.harmreduction.works/event/abcd-anyone-but-cis-dudes-hrw-11
	4
LOCATION:online - https://us06web.zoom.us/j/88629247826
STATUS:CONFIRMED
CATEGORIES:hrw,online,specialized
END:VEVENT
BEGIN:VEVENT
UID:1884@meet.harmreduction.works
SUMMARY:[Harm Reduction Works] Friends & Family HRW
DTSTAMP:20260424T135531Z
DTSTART:20260426T223000Z
DTEND:20260426T233000Z
URL:https://meet.harmreduction.works/event/friends-and-family-hrw-119
LOCATION:online - https://go.harmreduction.works/fnf
STATUS:CONFIRMED
CATEGORIES:hrw,online,open,specialized
END:VEVENT
BEGIN:VEVENT
UID:1885@meet.harmreduction.works
SUMMARY:[Harm Reduction Works] Mondays @ Noon HRW
DTSTAMP:20260424T135531Z
DTSTART:20260427T160000Z
DTEND:20260427T170000Z
URL:https://meet.harmreduction.works/event/mondays-noon-hrw-120
LOCATION:online - https://go.harmreduction.works/mondaynoon
STATUS:CONFIRMED
CATEGORIES:hrw,online,open
END:VEVENT
BEGIN:VEVENT
UID:1886@meet.harmreduction.works
SUMMARY:[Harm Reduction Works] Unity Recovery HRW
DTSTAMP:20260424T135531Z
DTSTART:20260427T170000Z
DTEND:20260427T180000Z
URL:https://meet.harmreduction.works/event/unity-recovery-hrw-120
LOCATION:online - https://go.harmreduction.works/unity
STATUS:CONFIRMED
CATEGORIES:hrw,online,open
END:VEVENT
BEGIN:VEVENT
UID:1887@meet.harmreduction.works
SUMMARY:[Harm Reduction Works] We're The Experts
DTSTAMP:20260424T135531Z
DTSTART:20260427T230000Z
DTEND:20260428T003000Z
URL:https://meet.harmreduction.works/event/were-the-experts-68
LOCATION:online - https://go.harmreduction.works/experts
STATUS:CONFIRMED
CATEGORIES:hrw,online,open
END:VEVENT
BEGIN:VEVENT
UID:1888@meet.harmreduction.works
SUMMARY:[Harm Reduction Works] Parents & Guardians HRW
DTSTAMP:20260424T135531Z
DTSTART:20260427T230000Z
DTEND:20260428T000000Z
URL:https://meet.harmreduction.works/event/parents-and-guardians-hrw-120
LOCATION:online - https://go.harmreduction.works/png
STATUS:CONFIRMED
CATEGORIES:hrw,online,open,specialized
END:VEVENT
BEGIN:VEVENT
UID:1889@meet.harmreduction.works
SUMMARY:[Harm Reduction Works] Open Door Recovery HRW
DTSTAMP:20260424T135531Z
DTSTART:20260428T150000Z
DTEND:20260428T160000Z
URL:https://meet.harmreduction.works/event/open-door-recovery-hrw-118
LOCATION:online - https://go.harmreduction.works/opendoor
STATUS:CONFIRMED
CATEGORIES:hrw,online,open
END:VEVENT
END:VCALENDAR
